Workbook

Sheet Sheet1
A1: LIST MAHASISWA UKT
A3: No | B3: NIM | C3: Nama | D3: Prodi
A4: 1 | B4: 19041377026 | C4: Rendita nur suci kirana wati | D4: D4 Administrasi Negara | E4: =CONCATENATE("'",B4,"',") -> '19041377026',
A5: 2 | B5: 19041377078 | C5: Iqbal kurnia sandy | D5: D4 Administrasi Negara | E5: =CONCATENATE("'",B5,"',") -> '19041377078',
A6: 3 | B6: 19041377008 | C6: Raffiula Izza A'ilah | D6: D4 Administrasi Negara | E6: =CONCATENATE("'",B6,"',") -> '19041377008',
A7: 4 | B7: 19041377057 | C7: Reiva Amory Christy | D7: D4 Administrasi Negara | E7: =CONCATENATE("'",B7,"',") -> '19041377057',
A8: 5 | B8: 19041377049 | C8: TASBIKHY KHUMMAD ROBBY | D8: D4 Administrasi Negara | E8: =CONCATENATE("'",B8,"',") -> '19041377049',
A9: 6 | B9: 19041377050 | C9: Jila Malfinasia Salsabilah | D9: D4 Administrasi Negara | E9: =CONCATENATE("'",B9,"',") -> '19041377050',
A10: 7 | B10: 19041377071 | C10: Akmal yusuf ibrahim | D10: D4 Administrasi Negara | E10: =CONCATENATE("'",B10,"',") -> '19041377071',
A11: 8 | B11: 19041377025 | C11: Adinda Putri Damayanti | D11: D4 Administrasi Negara | E11: =CONCATENATE("'",B11,"',") -> '19041377025',
A12: 9 | B12: 19041377046 | C12: Hafizh Mohammad Ismi Prakoso | D12: D4 Administrasi Negara | E12: =CONCATENATE("'",B12,"',") -> '19041377046',
A13: 10 | B13: 19041377007 | C13: Aries Jonathan Surya Dewangga | D13: D4 Administrasi Negara | E13: =CONCATENATE("'",B13,"',") -> '19041377007',
A14: 11 | B14: 19041377037 | C14: VINA RIZKI ARDIYANTI | D14: D4 Administrasi Negara | E14: =CONCATENATE("'",B14,"',") -> '19041377037',
A15: 12 | B15: 19041377054 | C15: GHIFARY ACHMAD PRASETYO | D15: D4 Administrasi Negara | E15: =CONCATENATE("'",B15,"',") -> '19041377054',
... A2362: 2359 | B2362: 19010024028 | C2362: Alfian Nanda Setiawan | D2362: S1 Teknologi Pendidikan | E2362: =CONCATENATE("'",B2362,"',") -> '19010024028',

Sheet Terbayar
A1: 17040274039
A2: 17040274024
A3: 17060484088
A4: 18010664164
A5: 18040564035
A6: 17020124018
A7: 19080304044
A8: 17020134096
A9: 17030194088
A10: 17041184086
A11: 17040274025
A12: 19050724026
... A219: 19010034017

Sheet Belum Bayar
A1: 19041344006 | B1: =VLOOKUP(A1,Sheet1!B$4:C$2362,2,FALSE) -> Karina Salma
A2: 17081194076 | B2: =VLOOKUP(A2,Sheet1!B$4:C$2362,2,FALSE) -> RANA IZZA SAFIRA
A3: 17020084087 | B3: =VLOOKUP(A3,Sheet1!B$4:C$2362,2,FALSE) -> VIVI INTAN LOLITA SARI
A4: 17010644123 | B4: =VLOOKUP(A4,Sheet1!B$4:C$2362,2,FALSE) -> MIFTA ULIL ROHMANIA
A5: 17020114034 | B5: =VLOOKUP(A5,Sheet1!B$4:C$2362,2,FALSE) -> SYAFIK MUHAMMAD AKBAR
A6: 17050394080 | B6: =VLOOKUP(A6,Sheet1!B$4:C$2362,2,FALSE) -> ATIQO MUFIDATUL KHOIRUN NISA'
A7: 17051334013 | B7: =VLOOKUP(A7,Sheet1!B$4:C$2362,2,FALSE) -> CINTA DAMAYANTI
A8: 17040284112 | B8: =VLOOKUP(A8,Sheet1!B$4:C$2362,2,FALSE) -> ADIMAS MUHAMMAD AINUL YAQIIN
A9: 17040284002 | B9: =VLOOKUP(A9,Sheet1!B$4:C$2362,2,FALSE) -> GRADIYANTI SETIAWAN
A10: 17050534033 | B10: =VLOOKUP(A10,Sheet1!B$4:C$2362,2,FALSE) -> IVAN SETIYA ALDIYANSAH
A11: 17051214061 | B11: =VLOOKUP(A11,Sheet1!B$4:C$2362,2,FALSE) -> ROBBIATUL ADAWIYAH
A12: 18041344006 | B12: =VLOOKUP(A12,Sheet1!B$4:C$2362,2,FALSE) -> NAILA MUBAROKAH
... A2135: 19040274083 | B2135: =VLOOKUP(A2135,Sheet1!B$4:C$2362,2,FALSE) -> ANIS NURUL HIKMAH
